BEGIN:VCALENDAR
VERSION:2.0
PRODID:-//LD8 Republicans - ECPv6.15.14//NONSGML v1.0//EN
CALSCALE:GREGORIAN
METHOD:PUBLISH
X-ORIGINAL-URL:https://azld8gop.com
X-WR-CALDESC:Events for LD8 Republicans
REFRESH-INTERVAL;VALUE=DURATION:PT1H
X-Robots-Tag:noindex
X-PUBLISHED-TTL:PT1H
BEGIN:VTIMEZONE
TZID:UTC
BEGIN:STANDARD
TZOFFSETFROM:+0000
TZOFFSETTO:+0000
TZNAME:UTC
DTSTART:20230101T000000
END:STANDARD
END:VTIMEZONE
BEGIN:VEVENT
DTSTART;TZID=UTC:20240207T173000
DTEND;TZID=UTC:20240207T193000
DTSTAMP:20260421T125605
CREATED:20230822T100222Z
LAST-MODIFIED:20230822T100222Z
UID:10000119-1707327000-1707334200@azld8gop.com
SUMMARY:TEMPE UNION HIGH SCHOOL DISTRICT
DESCRIPTION:
URL:https://azld8gop.com/event/tempe-union-high-school-district-10/
LOCATION:Governing Board Room of the Benedict Education Center\, 500 W. Guadalupe Road\, Tempe\, AZ\, 85283
END:VEVENT
BEGIN:VEVENT
DTSTART;TZID=UTC:20240207T190000
DTEND;TZID=UTC:20240207T203000
DTSTAMP:20260421T125605
CREATED:20230822T093335Z
LAST-MODIFIED:20230822T093335Z
UID:10000099-1707332400-1707337800@azld8gop.com
SUMMARY:TEMPE ELEMENTARY SCHOOL DISTRICT
DESCRIPTION:
URL:https://azld8gop.com/event/tempe-elementary-school-district-9/
LOCATION:Sanchez Administration Center\, 3205 S. Rural Road\, Tempe\, AZ\, 85282
END:VEVENT
END:VCALENDAR