BEGIN:VCALENDAR
VERSION:2.0
PRODID:-//LD8 Republicans - ECPv6.15.14//NONSGML v1.0//EN
CALSCALE:GREGORIAN
METHOD:PUBLISH
X-WR-CALNAME:LD8 Republicans
X-ORIGINAL-URL:https://azld8gop.com
X-WR-CALDESC:Events for LD8 Republicans
REFRESH-INTERVAL;VALUE=DURATION:PT1H
X-Robots-Tag:noindex
X-PUBLISHED-TTL:PT1H
BEGIN:VTIMEZONE
TZID:UTC
BEGIN:STANDARD
TZOFFSETFROM:+0000
TZOFFSETTO:+0000
TZNAME:UTC
DTSTART:20230101T000000
END:STANDARD
END:VTIMEZONE
BEGIN:VEVENT
DTSTART;TZID=UTC:20240213T170000
DTEND;TZID=UTC:20240213T190000
DTSTAMP:20260425T094822
CREATED:20240211T031319Z
LAST-MODIFIED:20240211T031319Z
UID:10000129-1707843600-1707850800@azld8gop.com
SUMMARY:LD8 Monthly BOD
DESCRIPTION:Panera Bread \nScottsdale rd. & Indianschool rd.
URL:https://azld8gop.com/event/ld8-monthly-bod/
END:VEVENT
BEGIN:VEVENT
DTSTART;TZID=UTC:20240213T183000
DTEND;TZID=UTC:20240213T200000
DTSTAMP:20260425T094822
CREATED:20230822T072034Z
LAST-MODIFIED:20230822T072034Z
UID:10000039-1707849000-1707854400@azld8gop.com
SUMMARY:BALSZ ELEMENTARY SCHOOL DISTRICT
DESCRIPTION:
URL:https://azld8gop.com/event/balsz-elementary-school-district-6/
LOCATION:Governing Board Room Balsz School District Office\, Governing Board Room\, Balsz School District Off4825 E Roosevelt St\, Phoenix\, 85008\, United States
END:VEVENT
BEGIN:VEVENT
DTSTART;TZID=UTC:20240213T183000
DTEND;TZID=UTC:20240213T200000
DTSTAMP:20260425T094822
CREATED:20230822T084028Z
LAST-MODIFIED:20230822T084028Z
UID:10000072-1707849000-1707854400@azld8gop.com
SUMMARY:MESA UNIFIED SCHOOL DISTRICT (aka MESA PUBLIC SCHOOLS)
DESCRIPTION:
URL:https://azld8gop.com/event/mesa-unified-school-district-aka-mesa-public-schools-10/
LOCATION:Board Room of the Curriculum Services Center\, 549 N. Stapley Dr\, Mesa\, AZ\, 85203
END:VEVENT
END:VCALENDAR