BEGIN:VCALENDAR
VERSION:2.0
PRODID:-//LD8 Republicans - ECPv6.15.14//NONSGML v1.0//EN
CALSCALE:GREGORIAN
METHOD:PUBLISH
X-WR-CALNAME:LD8 Republicans
X-ORIGINAL-URL:https://azld8gop.com
X-WR-CALDESC:Events for LD8 Republicans
REFRESH-INTERVAL;VALUE=DURATION:PT1H
X-Robots-Tag:noindex
X-PUBLISHED-TTL:PT1H
BEGIN:VTIMEZONE
TZID:UTC
BEGIN:STANDARD
TZOFFSETFROM:+0000
TZOFFSETTO:+0000
TZNAME:UTC
DTSTART:20230101T000000
END:STANDARD
END:VTIMEZONE
BEGIN:VEVENT
DTSTART;TZID=UTC:20240227T183000
DTEND;TZID=UTC:20240227T200000
DTSTAMP:20260425T094824
CREATED:20230822T084132Z
LAST-MODIFIED:20230822T084132Z
UID:10000073-1709058600-1709064000@azld8gop.com
SUMMARY:MESA UNIFIED SCHOOL DISTRICT (aka MESA PUBLIC SCHOOLS)
DESCRIPTION:
URL:https://azld8gop.com/event/mesa-unified-school-district-aka-mesa-public-schools-11/
END:VEVENT
BEGIN:VEVENT
DTSTART;TZID=UTC:20240227T183000
DTEND;TZID=UTC:20240227T203000
DTSTAMP:20260425T094824
CREATED:20240211T032105Z
LAST-MODIFIED:20240211T032105Z
UID:10000130-1709058600-1709065800@azld8gop.com
SUMMARY:LD8 Monthly General Meeting
DESCRIPTION:Elks Lodge. \n6398 E Oak St\, Scottsdale\, AZ
URL:https://azld8gop.com/event/ld8-monthly-general-meeting/
END:VEVENT
END:VCALENDAR