BEGIN:VCALENDAR
VERSION:2.0
PRODID:-//LD8 Republicans - ECPv6.15.14//NONSGML v1.0//EN
CALSCALE:GREGORIAN
METHOD:PUBLISH
X-WR-CALNAME:LD8 Republicans
X-ORIGINAL-URL:https://azld8gop.com
X-WR-CALDESC:Events for LD8 Republicans
REFRESH-INTERVAL;VALUE=DURATION:PT1H
X-Robots-Tag:noindex
X-PUBLISHED-TTL:PT1H
BEGIN:VTIMEZONE
TZID:UTC
BEGIN:STANDARD
TZOFFSETFROM:+0000
TZOFFSETTO:+0000
TZNAME:UTC
DTSTART:20230101T000000
END:STANDARD
END:VTIMEZONE
BEGIN:VEVENT
DTSTART;TZID=UTC:20240409T183000
DTEND;TZID=UTC:20240409T200000
DTSTAMP:20260425T142717
CREATED:20230822T072550Z
LAST-MODIFIED:20230822T072550Z
UID:10000041-1712687400-1712692800@azld8gop.com
SUMMARY:BALSZ ELEMENTARY SCHOOL DISTRICT
DESCRIPTION:
URL:https://azld8gop.com/event/balsz-elementary-school-district-8/
LOCATION:Governing Board Room Balsz School District Office\, Governing Board Room\, Balsz School District Off4825 E Roosevelt St\, Phoenix\, 85008\, United States
END:VEVENT
BEGIN:VEVENT
DTSTART;TZID=UTC:20240409T183000
DTEND;TZID=UTC:20240409T200000
DTSTAMP:20260425T142717
CREATED:20230822T084424Z
LAST-MODIFIED:20230822T084424Z
UID:10000076-1712687400-1712692800@azld8gop.com
SUMMARY:MESA UNIFIED SCHOOL DISTRICT (aka MESA PUBLIC SCHOOLS)
DESCRIPTION:
URL:https://azld8gop.com/event/mesa-unified-school-district-aka-mesa-public-schools-14/
LOCATION:Board Room of the Curriculum Services Center\, 549 N. Stapley Dr\, Mesa\, AZ\, 85203
END:VEVENT
END:VCALENDAR