BEGIN:VCALENDAR
VERSION:2.0
PRODID:-//LD8 Republicans - ECPv6.15.14//NONSGML v1.0//EN
CALSCALE:GREGORIAN
METHOD:PUBLISH
X-ORIGINAL-URL:https://azld8gop.com
X-WR-CALDESC:Events for LD8 Republicans
REFRESH-INTERVAL;VALUE=DURATION:PT1H
X-Robots-Tag:noindex
X-PUBLISHED-TTL:PT1H
BEGIN:VTIMEZONE
TZID:UTC
BEGIN:STANDARD
TZOFFSETFROM:+0000
TZOFFSETTO:+0000
TZNAME:UTC
DTSTART:20230101T000000
END:STANDARD
END:VTIMEZONE
BEGIN:VEVENT
DTSTART;TZID=UTC:20240508T173000
DTEND;TZID=UTC:20240508T193000
DTSTAMP:20260425T125421
CREATED:20240220T012402Z
LAST-MODIFIED:20240220T012402Z
UID:10000139-1715189400-1715196600@azld8gop.com
SUMMARY:LD8 GOP Monthly BOD
DESCRIPTION:Panera Bread \nScottsdale rd. & Indianschool rd.
URL:https://azld8gop.com/event/ld8-gop-monthly-bod-3/
END:VEVENT
END:VCALENDAR