BEGIN:VCALENDAR
VERSION:2.0
PRODID:-//LD8 Republicans - ECPv6.15.14//NONSGML v1.0//EN
CALSCALE:GREGORIAN
METHOD:PUBLISH
X-ORIGINAL-URL:https://azld8gop.com
X-WR-CALDESC:Events for LD8 Republicans
REFRESH-INTERVAL;VALUE=DURATION:PT1H
X-Robots-Tag:noindex
X-PUBLISHED-TTL:PT1H
BEGIN:VTIMEZONE
TZID:UTC
BEGIN:STANDARD
TZOFFSETFROM:+0000
TZOFFSETTO:+0000
TZNAME:UTC
DTSTART:20230101T000000
END:STANDARD
END:VTIMEZONE
BEGIN:VEVENT
DTSTART;TZID=UTC:20240403T173000
DTEND;TZID=UTC:20240403T193000
DTSTAMP:20260425T062614
CREATED:20230822T100430Z
LAST-MODIFIED:20230822T100430Z
UID:10000122-1712165400-1712172600@azld8gop.com
SUMMARY:TEMPE UNION HIGH SCHOOL DISTRICT
DESCRIPTION:
URL:https://azld8gop.com/event/tempe-union-high-school-district-13/
LOCATION:Governing Board Room of the Benedict Education Center\, 500 W. Guadalupe Road\, Tempe\, AZ\, 85283
END:VEVENT
BEGIN:VEVENT
DTSTART;TZID=UTC:20240406T100000
DTEND;TZID=UTC:20240406T120000
DTSTAMP:20260425T062614
CREATED:20240220T005837Z
LAST-MODIFIED:20240315T074351Z
UID:10000134-1712397600-1712404800@azld8gop.com
SUMMARY:Biblical Citizenship
DESCRIPTION:Biblical Citizenship 10:00am \n18777 N. 32nd. st. \nPhoenix\, Arizona 85050
URL:https://azld8gop.com/event/biblical-citizenship/
END:VEVENT
BEGIN:VEVENT
DTSTART;TZID=UTC:20240409T183000
DTEND;TZID=UTC:20240409T200000
DTSTAMP:20260425T062614
CREATED:20230822T072550Z
LAST-MODIFIED:20230822T072550Z
UID:10000041-1712687400-1712692800@azld8gop.com
SUMMARY:BALSZ ELEMENTARY SCHOOL DISTRICT
DESCRIPTION:
URL:https://azld8gop.com/event/balsz-elementary-school-district-8/
LOCATION:Governing Board Room Balsz School District Office\, Governing Board Room\, Balsz School District Off4825 E Roosevelt St\, Phoenix\, 85008\, United States
END:VEVENT
BEGIN:VEVENT
DTSTART;TZID=UTC:20240409T183000
DTEND;TZID=UTC:20240409T200000
DTSTAMP:20260425T062614
CREATED:20230822T084424Z
LAST-MODIFIED:20230822T084424Z
UID:10000076-1712687400-1712692800@azld8gop.com
SUMMARY:MESA UNIFIED SCHOOL DISTRICT (aka MESA PUBLIC SCHOOLS)
DESCRIPTION:
URL:https://azld8gop.com/event/mesa-unified-school-district-aka-mesa-public-schools-14/
LOCATION:Board Room of the Curriculum Services Center\, 549 N. Stapley Dr\, Mesa\, AZ\, 85203
END:VEVENT
BEGIN:VEVENT
DTSTART;TZID=UTC:20240410T173000
DTEND;TZID=UTC:20240410T193000
DTSTAMP:20260425T062614
CREATED:20240220T012224Z
LAST-MODIFIED:20240220T012224Z
UID:10000138-1712770200-1712777400@azld8gop.com
SUMMARY:LD8 GOP Monthly BOD
DESCRIPTION:Panera Bread \nScottsdale rd. & Indianschool rd.
URL:https://azld8gop.com/event/ld8-gop-monthly-bod-2/
END:VEVENT
BEGIN:VEVENT
DTSTART;TZID=UTC:20240416T180000
DTEND;TZID=UTC:20240416T200000
DTSTAMP:20260425T062614
CREATED:20230822T080624Z
LAST-MODIFIED:20230822T080624Z
UID:10000057-1713290400-1713297600@azld8gop.com
SUMMARY:CREIGHTON ELEMENTARY SCHOOL DISTRICT
DESCRIPTION:
URL:https://azld8gop.com/event/creighton-elementary-school-district-12/
LOCATION:District Board Room\, Papago-West\, 2052 N. 36th Street\, Phoenix\, AZ\, 85008
END:VEVENT
BEGIN:VEVENT
DTSTART;TZID=UTC:20240417T173000
DTEND;TZID=UTC:20240417T193000
DTSTAMP:20260425T062614
CREATED:20230822T100518Z
LAST-MODIFIED:20230822T100518Z
UID:10000123-1713375000-1713382200@azld8gop.com
SUMMARY:TEMPE UNION HIGH SCHOOL DISTRICT
DESCRIPTION:
URL:https://azld8gop.com/event/tempe-union-high-school-district-14/
LOCATION:Governing Board Room of the Benedict Education Center\, 500 W. Guadalupe Road\, Tempe\, AZ\, 85283
END:VEVENT
BEGIN:VEVENT
DTSTART;TZID=UTC:20240417T180000
DTEND;TZID=UTC:20240417T193000
DTSTAMP:20260425T062614
CREATED:20230822T093714Z
LAST-MODIFIED:20230822T093714Z
UID:10000102-1713376800-1713382200@azld8gop.com
SUMMARY:TEMPE ELEMENTARY SCHOOL DISTRICT
DESCRIPTION:
URL:https://azld8gop.com/event/tempe-elementary-school-district-12/
LOCATION:Sanchez Administration Center\, 3205 S. Rural Road\, Tempe\, AZ\, 85282
END:VEVENT
BEGIN:VEVENT
DTSTART;TZID=UTC:20240423T183000
DTEND;TZID=UTC:20240423T200000
DTSTAMP:20260425T062614
CREATED:20230822T084524Z
LAST-MODIFIED:20230822T084524Z
UID:10000077-1713897000-1713902400@azld8gop.com
SUMMARY:MESA UNIFIED SCHOOL DISTRICT (aka MESA PUBLIC SCHOOLS)
DESCRIPTION:
URL:https://azld8gop.com/event/mesa-unified-school-district-aka-mesa-public-schools-15/
END:VEVENT
BEGIN:VEVENT
DTSTART;TZID=UTC:20240423T183000
DTEND;TZID=UTC:20240423T203000
DTSTAMP:20260425T062614
CREATED:20240211T053927Z
LAST-MODIFIED:20240211T053927Z
UID:10000132-1713897000-1713904200@azld8gop.com
SUMMARY:LD8 Monthly General Meeting – LD8 Republicans
DESCRIPTION:LD8 Monthly General Meeting – LD8 Republicans\nElks Lodge.6398 E Oak St\, Scottsdale\, AZ
URL:https://azld8gop.com/event/ld8-monthly-general-meeting-ld8-republicans-2/
END:VEVENT
BEGIN:VEVENT
DTSTART;TZID=UTC:20240424T180000
DTEND;TZID=UTC:20240424T193000
DTSTAMP:20260425T062614
CREATED:20230822T093922Z
LAST-MODIFIED:20230822T093922Z
UID:10000103-1713981600-1713987000@azld8gop.com
SUMMARY:TEMPE ELEMENTARY SCHOOL DISTRICT
DESCRIPTION:
URL:https://azld8gop.com/event/tempe-elementary-school-district-13/
LOCATION:Sanchez Administration Center\, 3205 S. Rural Road\, Tempe\, AZ\, 85282
END:VEVENT
END:VCALENDAR