BEGIN:VCALENDAR
VERSION:2.0
PRODID:-//LD8 Republicans - ECPv6.15.14//NONSGML v1.0//EN
CALSCALE:GREGORIAN
METHOD:PUBLISH
X-WR-CALNAME:LD8 Republicans
X-ORIGINAL-URL:https://azld8gop.com
X-WR-CALDESC:Events for LD8 Republicans
REFRESH-INTERVAL;VALUE=DURATION:PT1H
X-Robots-Tag:noindex
X-PUBLISHED-TTL:PT1H
BEGIN:VTIMEZONE
TZID:America/Phoenix
BEGIN:STANDARD
TZOFFSETFROM:-0700
TZOFFSETTO:-0700
TZNAME:MST
DTSTART:20240101T000000
END:STANDARD
END:VTIMEZONE
BEGIN:VEVENT
DTSTART;TZID=America/Phoenix:20260316T170000
DTEND;TZID=America/Phoenix:20260316T190000
DTSTAMP:20260420T072113
CREATED:20250225T052455Z
LAST-MODIFIED:20250225T053320Z
UID:10000932-1773680400-1773687600@azld8gop.com
SUMMARY:SALT RIVER SCHOOLS EDUCATION BOARD & MEETINGS
DESCRIPTION:https://www.srpmic-ed.org/about/education_board \nCheck regularly for updates to the school board calendar.
URL:https://azld8gop.com/event/salt-river-schools-education-board-meetings/2026-03-16/
LOCATION:4836 N. Center St\, Scottsdale\, AZ 85256\, 4836 N. Center St.\, Scottsdale\, AZ\, 85256\, United States
END:VEVENT
BEGIN:VEVENT
DTSTART;TZID=America/Phoenix:20260216T170000
DTEND;TZID=America/Phoenix:20260216T190000
DTSTAMP:20260420T072113
CREATED:20250225T052455Z
LAST-MODIFIED:20250225T053320Z
UID:10000931-1771261200-1771268400@azld8gop.com
SUMMARY:SALT RIVER SCHOOLS EDUCATION BOARD & MEETINGS
DESCRIPTION:https://www.srpmic-ed.org/about/education_board \nCheck regularly for updates to the school board calendar.
URL:https://azld8gop.com/event/salt-river-schools-education-board-meetings/2026-02-16/
LOCATION:4836 N. Center St\, Scottsdale\, AZ 85256\, 4836 N. Center St.\, Scottsdale\, AZ\, 85256\, United States
END:VEVENT
BEGIN:VEVENT
DTSTART;TZID=America/Phoenix:20260119T170000
DTEND;TZID=America/Phoenix:20260119T190000
DTSTAMP:20260420T072113
CREATED:20250225T052455Z
LAST-MODIFIED:20250225T053320Z
UID:10000930-1768842000-1768849200@azld8gop.com
SUMMARY:SALT RIVER SCHOOLS EDUCATION BOARD & MEETINGS
DESCRIPTION:https://www.srpmic-ed.org/about/education_board \nCheck regularly for updates to the school board calendar.
URL:https://azld8gop.com/event/salt-river-schools-education-board-meetings/2026-01-19/
LOCATION:4836 N. Center St\, Scottsdale\, AZ 85256\, 4836 N. Center St.\, Scottsdale\, AZ\, 85256\, United States
END:VEVENT
BEGIN:VEVENT
DTSTART;TZID=America/Phoenix:20251215T170000
DTEND;TZID=America/Phoenix:20251215T190000
DTSTAMP:20260420T072113
CREATED:20250225T052455Z
LAST-MODIFIED:20250225T053320Z
UID:10000929-1765818000-1765825200@azld8gop.com
SUMMARY:SALT RIVER SCHOOLS EDUCATION BOARD & MEETINGS
DESCRIPTION:https://www.srpmic-ed.org/about/education_board \nCheck regularly for updates to the school board calendar.
URL:https://azld8gop.com/event/salt-river-schools-education-board-meetings/2025-12-15/
LOCATION:4836 N. Center St\, Scottsdale\, AZ 85256\, 4836 N. Center St.\, Scottsdale\, AZ\, 85256\, United States
END:VEVENT
BEGIN:VEVENT
DTSTART;TZID=America/Phoenix:20251117T170000
DTEND;TZID=America/Phoenix:20251117T190000
DTSTAMP:20260420T072113
CREATED:20250225T052455Z
LAST-MODIFIED:20250225T053320Z
UID:10000928-1763398800-1763406000@azld8gop.com
SUMMARY:SALT RIVER SCHOOLS EDUCATION BOARD & MEETINGS
DESCRIPTION:https://www.srpmic-ed.org/about/education_board \nCheck regularly for updates to the school board calendar.
URL:https://azld8gop.com/event/salt-river-schools-education-board-meetings/2025-11-17/
LOCATION:4836 N. Center St\, Scottsdale\, AZ 85256\, 4836 N. Center St.\, Scottsdale\, AZ\, 85256\, United States
END:VEVENT
BEGIN:VEVENT
DTSTART;TZID=America/Phoenix:20251020T170000
DTEND;TZID=America/Phoenix:20251020T190000
DTSTAMP:20260420T072113
CREATED:20250225T052455Z
LAST-MODIFIED:20250225T053320Z
UID:10000927-1760979600-1760986800@azld8gop.com
SUMMARY:SALT RIVER SCHOOLS EDUCATION BOARD & MEETINGS
DESCRIPTION:https://www.srpmic-ed.org/about/education_board \nCheck regularly for updates to the school board calendar.
URL:https://azld8gop.com/event/salt-river-schools-education-board-meetings/2025-10-20/
LOCATION:4836 N. Center St\, Scottsdale\, AZ 85256\, 4836 N. Center St.\, Scottsdale\, AZ\, 85256\, United States
END:VEVENT
BEGIN:VEVENT
DTSTART;TZID=America/Phoenix:20250915T170000
DTEND;TZID=America/Phoenix:20250915T190000
DTSTAMP:20260420T072113
CREATED:20250225T052455Z
LAST-MODIFIED:20250225T053320Z
UID:10000926-1757955600-1757962800@azld8gop.com
SUMMARY:SALT RIVER SCHOOLS EDUCATION BOARD & MEETINGS
DESCRIPTION:https://www.srpmic-ed.org/about/education_board \nCheck regularly for updates to the school board calendar.
URL:https://azld8gop.com/event/salt-river-schools-education-board-meetings/2025-09-15/
LOCATION:4836 N. Center St\, Scottsdale\, AZ 85256\, 4836 N. Center St.\, Scottsdale\, AZ\, 85256\, United States
END:VEVENT
BEGIN:VEVENT
DTSTART;TZID=America/Phoenix:20250818T170000
DTEND;TZID=America/Phoenix:20250818T190000
DTSTAMP:20260420T072113
CREATED:20250225T052455Z
LAST-MODIFIED:20250225T053320Z
UID:10000925-1755536400-1755543600@azld8gop.com
SUMMARY:SALT RIVER SCHOOLS EDUCATION BOARD & MEETINGS
DESCRIPTION:https://www.srpmic-ed.org/about/education_board \nCheck regularly for updates to the school board calendar.
URL:https://azld8gop.com/event/salt-river-schools-education-board-meetings/2025-08-18/
LOCATION:4836 N. Center St\, Scottsdale\, AZ 85256\, 4836 N. Center St.\, Scottsdale\, AZ\, 85256\, United States
END:VEVENT
BEGIN:VEVENT
DTSTART;TZID=America/Phoenix:20250721T170000
DTEND;TZID=America/Phoenix:20250721T190000
DTSTAMP:20260420T072113
CREATED:20250225T052455Z
LAST-MODIFIED:20250225T053320Z
UID:10000924-1753117200-1753124400@azld8gop.com
SUMMARY:SALT RIVER SCHOOLS EDUCATION BOARD & MEETINGS
DESCRIPTION:https://www.srpmic-ed.org/about/education_board \nCheck regularly for updates to the school board calendar.
URL:https://azld8gop.com/event/salt-river-schools-education-board-meetings/2025-07-21/
LOCATION:4836 N. Center St\, Scottsdale\, AZ 85256\, 4836 N. Center St.\, Scottsdale\, AZ\, 85256\, United States
END:VEVENT
BEGIN:VEVENT
DTSTART;TZID=America/Phoenix:20250616T170000
DTEND;TZID=America/Phoenix:20250616T190000
DTSTAMP:20260420T072113
CREATED:20250225T052455Z
LAST-MODIFIED:20250225T053320Z
UID:10000923-1750093200-1750100400@azld8gop.com
SUMMARY:SALT RIVER SCHOOLS EDUCATION BOARD & MEETINGS
DESCRIPTION:https://www.srpmic-ed.org/about/education_board \nCheck regularly for updates to the school board calendar.
URL:https://azld8gop.com/event/salt-river-schools-education-board-meetings/2025-06-16/
LOCATION:4836 N. Center St\, Scottsdale\, AZ 85256\, 4836 N. Center St.\, Scottsdale\, AZ\, 85256\, United States
END:VEVENT
BEGIN:VEVENT
DTSTART;TZID=America/Phoenix:20250519T170000
DTEND;TZID=America/Phoenix:20250519T190000
DTSTAMP:20260420T072113
CREATED:20250225T052455Z
LAST-MODIFIED:20250225T053320Z
UID:10000922-1747674000-1747681200@azld8gop.com
SUMMARY:SALT RIVER SCHOOLS EDUCATION BOARD & MEETINGS
DESCRIPTION:https://www.srpmic-ed.org/about/education_board \nCheck regularly for updates to the school board calendar.
URL:https://azld8gop.com/event/salt-river-schools-education-board-meetings/2025-05-19/
LOCATION:4836 N. Center St\, Scottsdale\, AZ 85256\, 4836 N. Center St.\, Scottsdale\, AZ\, 85256\, United States
END:VEVENT
BEGIN:VEVENT
DTSTART;TZID=America/Phoenix:20250421T170000
DTEND;TZID=America/Phoenix:20250421T190000
DTSTAMP:20260420T072113
CREATED:20250225T052455Z
LAST-MODIFIED:20250225T053320Z
UID:10000921-1745254800-1745262000@azld8gop.com
SUMMARY:SALT RIVER SCHOOLS EDUCATION BOARD & MEETINGS
DESCRIPTION:https://www.srpmic-ed.org/about/education_board \nCheck regularly for updates to the school board calendar.
URL:https://azld8gop.com/event/salt-river-schools-education-board-meetings/2025-04-21/
LOCATION:4836 N. Center St\, Scottsdale\, AZ 85256\, 4836 N. Center St.\, Scottsdale\, AZ\, 85256\, United States
END:VEVENT
BEGIN:VEVENT
DTSTART;TZID=America/Phoenix:20250317T170000
DTEND;TZID=America/Phoenix:20250317T190000
DTSTAMP:20260420T072113
CREATED:20250225T052455Z
LAST-MODIFIED:20250225T053320Z
UID:10000920-1742230800-1742238000@azld8gop.com
SUMMARY:SALT RIVER SCHOOLS EDUCATION BOARD & MEETINGS
DESCRIPTION:https://www.srpmic-ed.org/about/education_board \nCheck regularly for updates to the school board calendar.
URL:https://azld8gop.com/event/salt-river-schools-education-board-meetings/2025-03-17/
LOCATION:4836 N. Center St\, Scottsdale\, AZ 85256\, 4836 N. Center St.\, Scottsdale\, AZ\, 85256\, United States
END:VEVENT
END:VCALENDAR