BEGIN:VCALENDAR
VERSION:2.0
PRODID:-//LD8 Republicans - ECPv6.15.14//NONSGML v1.0//EN
CALSCALE:GREGORIAN
METHOD:PUBLISH
X-WR-CALNAME:LD8 Republicans
X-ORIGINAL-URL:https://azld8gop.com
X-WR-CALDESC:Events for LD8 Republicans
REFRESH-INTERVAL;VALUE=DURATION:PT1H
X-Robots-Tag:noindex
X-PUBLISHED-TTL:PT1H
BEGIN:VTIMEZONE
TZID:America/Phoenix
BEGIN:STANDARD
TZOFFSETFROM:-0700
TZOFFSETTO:-0700
TZNAME:MST
DTSTART:20240101T000000
END:STANDARD
END:VTIMEZONE
BEGIN:VEVENT
DTSTART;TZID=America/Phoenix:20250519T170000
DTEND;TZID=America/Phoenix:20250519T190000
DTSTAMP:20260420T091417
CREATED:20250225T052455Z
LAST-MODIFIED:20250225T053320Z
UID:10000922-1747674000-1747681200@azld8gop.com
SUMMARY:SALT RIVER SCHOOLS EDUCATION BOARD & MEETINGS
DESCRIPTION:https://www.srpmic-ed.org/about/education_board \nCheck regularly for updates to the school board calendar.
URL:https://azld8gop.com/event/salt-river-schools-education-board-meetings/2025-05-19/
LOCATION:4836 N. Center St\, Scottsdale\, AZ 85256\, 4836 N. Center St.\, Scottsdale\, AZ\, 85256\, United States
END:VEVENT
BEGIN:VEVENT
DTSTART;TZID=America/Phoenix:20250421T170000
DTEND;TZID=America/Phoenix:20250421T190000
DTSTAMP:20260420T091417
CREATED:20250225T052455Z
LAST-MODIFIED:20250225T053320Z
UID:10000921-1745254800-1745262000@azld8gop.com
SUMMARY:SALT RIVER SCHOOLS EDUCATION BOARD & MEETINGS
DESCRIPTION:https://www.srpmic-ed.org/about/education_board \nCheck regularly for updates to the school board calendar.
URL:https://azld8gop.com/event/salt-river-schools-education-board-meetings/2025-04-21/
LOCATION:4836 N. Center St\, Scottsdale\, AZ 85256\, 4836 N. Center St.\, Scottsdale\, AZ\, 85256\, United States
END:VEVENT
BEGIN:VEVENT
DTSTART;TZID=America/Phoenix:20250317T170000
DTEND;TZID=America/Phoenix:20250317T190000
DTSTAMP:20260420T091417
CREATED:20250225T052455Z
LAST-MODIFIED:20250225T053320Z
UID:10000920-1742230800-1742238000@azld8gop.com
SUMMARY:SALT RIVER SCHOOLS EDUCATION BOARD & MEETINGS
DESCRIPTION:https://www.srpmic-ed.org/about/education_board \nCheck regularly for updates to the school board calendar.
URL:https://azld8gop.com/event/salt-river-schools-education-board-meetings/2025-03-17/
LOCATION:4836 N. Center St\, Scottsdale\, AZ 85256\, 4836 N. Center St.\, Scottsdale\, AZ\, 85256\, United States
END:VEVENT
END:VCALENDAR