BEGIN:VCALENDAR
VERSION:2.0
PRODID:-//LD8 Republicans - ECPv6.15.14//NONSGML v1.0//EN
CALSCALE:GREGORIAN
METHOD:PUBLISH
X-WR-CALNAME:LD8 Republicans
X-ORIGINAL-URL:https://azld8gop.com
X-WR-CALDESC:Events for LD8 Republicans
REFRESH-INTERVAL;VALUE=DURATION:PT1H
X-Robots-Tag:noindex
X-PUBLISHED-TTL:PT1H
BEGIN:VTIMEZONE
TZID:UTC
BEGIN:STANDARD
TZOFFSETFROM:+0000
TZOFFSETTO:+0000
TZNAME:UTC
DTSTART:20220101T000000
END:STANDARD
END:VTIMEZONE
BEGIN:VEVENT
DTSTART;TZID=UTC:20240625T170000
DTEND;TZID=UTC:20240625T190000
DTSTAMP:20260421T085528
CREATED:20230822T084913Z
LAST-MODIFIED:20230822T084913Z
UID:10000081-1719334800-1719342000@azld8gop.com
SUMMARY:MESA UNIFIED SCHOOL DISTRICT (aka MESA PUBLIC SCHOOLS)
DESCRIPTION:SUMMER HOURS
URL:https://azld8gop.com/event/mesa-unified-school-district-aka-mesa-public-schools-19/
LOCATION:Board Room of the Curriculum Services Center\, 549 N. Stapley Dr\, Mesa\, AZ\, 85203
END:VEVENT
BEGIN:VEVENT
DTSTART;TZID=UTC:20240611T170000
DTEND;TZID=UTC:20240611T190000
DTSTAMP:20260421T085528
CREATED:20230822T084821Z
LAST-MODIFIED:20230822T084821Z
UID:10000080-1718125200-1718132400@azld8gop.com
SUMMARY:MESA UNIFIED SCHOOL DISTRICT (aka MESA PUBLIC SCHOOLS)
DESCRIPTION:SUMMER HOURS
URL:https://azld8gop.com/event/mesa-unified-school-district-aka-mesa-public-schools-18/
LOCATION:Board Room of the Curriculum Services Center\, 549 N. Stapley Dr\, Mesa\, AZ\, 85203
END:VEVENT
BEGIN:VEVENT
DTSTART;TZID=UTC:20240528T170000
DTEND;TZID=UTC:20240528T190000
DTSTAMP:20260421T085528
CREATED:20230822T084725Z
LAST-MODIFIED:20230822T084725Z
UID:10000079-1716915600-1716922800@azld8gop.com
SUMMARY:MESA UNIFIED SCHOOL DISTRICT (aka MESA PUBLIC SCHOOLS)
DESCRIPTION:SUMMER HOURS
URL:https://azld8gop.com/event/mesa-unified-school-district-aka-mesa-public-schools-17/
LOCATION:Board Room of the Curriculum Services Center\, 549 N. Stapley Dr\, Mesa\, AZ\, 85203
END:VEVENT
BEGIN:VEVENT
DTSTART;TZID=UTC:20240409T183000
DTEND;TZID=UTC:20240409T200000
DTSTAMP:20260421T085528
CREATED:20230822T084424Z
LAST-MODIFIED:20230822T084424Z
UID:10000076-1712687400-1712692800@azld8gop.com
SUMMARY:MESA UNIFIED SCHOOL DISTRICT (aka MESA PUBLIC SCHOOLS)
DESCRIPTION:
URL:https://azld8gop.com/event/mesa-unified-school-district-aka-mesa-public-schools-14/
LOCATION:Board Room of the Curriculum Services Center\, 549 N. Stapley Dr\, Mesa\, AZ\, 85203
END:VEVENT
BEGIN:VEVENT
DTSTART;TZID=UTC:20240326T183000
DTEND;TZID=UTC:20240326T200000
DTSTAMP:20260421T085528
CREATED:20230822T084346Z
LAST-MODIFIED:20230822T084346Z
UID:10000075-1711477800-1711483200@azld8gop.com
SUMMARY:MESA UNIFIED SCHOOL DISTRICT (aka MESA PUBLIC SCHOOLS)
DESCRIPTION:
URL:https://azld8gop.com/event/mesa-unified-school-district-aka-mesa-public-schools-13/
LOCATION:Board Room of the Curriculum Services Center\, 549 N. Stapley Dr\, Mesa\, AZ\, 85203
END:VEVENT
BEGIN:VEVENT
DTSTART;TZID=UTC:20240312T183000
DTEND;TZID=UTC:20240312T200000
DTSTAMP:20260421T085528
CREATED:20230822T084234Z
LAST-MODIFIED:20230822T084234Z
UID:10000074-1710268200-1710273600@azld8gop.com
SUMMARY:MESA UNIFIED SCHOOL DISTRICT (aka MESA PUBLIC SCHOOLS)
DESCRIPTION:
URL:https://azld8gop.com/event/mesa-unified-school-district-aka-mesa-public-schools-12/
LOCATION:Board Room of the Curriculum Services Center\, 549 N. Stapley Dr\, Mesa\, AZ\, 85203
END:VEVENT
BEGIN:VEVENT
DTSTART;TZID=UTC:20240213T183000
DTEND;TZID=UTC:20240213T200000
DTSTAMP:20260421T085528
CREATED:20230822T084028Z
LAST-MODIFIED:20230822T084028Z
UID:10000072-1707849000-1707854400@azld8gop.com
SUMMARY:MESA UNIFIED SCHOOL DISTRICT (aka MESA PUBLIC SCHOOLS)
DESCRIPTION:
URL:https://azld8gop.com/event/mesa-unified-school-district-aka-mesa-public-schools-10/
LOCATION:Board Room of the Curriculum Services Center\, 549 N. Stapley Dr\, Mesa\, AZ\, 85203
END:VEVENT
BEGIN:VEVENT
DTSTART;TZID=UTC:20240123T183000
DTEND;TZID=UTC:20240123T200000
DTSTAMP:20260421T085528
CREATED:20230822T083930Z
LAST-MODIFIED:20230822T083930Z
UID:10000071-1706034600-1706040000@azld8gop.com
SUMMARY:MESA UNIFIED SCHOOL DISTRICT (aka MESA PUBLIC SCHOOLS)
DESCRIPTION:
URL:https://azld8gop.com/event/mesa-unified-school-district-aka-mesa-public-schools-9/
LOCATION:Board Room of the Curriculum Services Center\, 549 N. Stapley Dr\, Mesa\, AZ\, 85203
END:VEVENT
BEGIN:VEVENT
DTSTART;TZID=UTC:20231212T183000
DTEND;TZID=UTC:20231212T200000
DTSTAMP:20260421T085528
CREATED:20230822T083639Z
LAST-MODIFIED:20230822T083639Z
UID:10000069-1702405800-1702411200@azld8gop.com
SUMMARY:MESA UNIFIED SCHOOL DISTRICT (aka MESA PUBLIC SCHOOLS)
DESCRIPTION:
URL:https://azld8gop.com/event/mesa-unified-school-district-aka-mesa-public-schools-7/
LOCATION:Board Room of the Curriculum Services Center\, 549 N. Stapley Dr\, Mesa\, AZ\, 85203
END:VEVENT
BEGIN:VEVENT
DTSTART;TZID=UTC:20231128T183000
DTEND;TZID=UTC:20231128T200000
DTSTAMP:20260421T085528
CREATED:20230822T083555Z
LAST-MODIFIED:20230822T083555Z
UID:10000068-1701196200-1701201600@azld8gop.com
SUMMARY:MESA UNIFIED SCHOOL DISTRICT (aka MESA PUBLIC SCHOOLS)
DESCRIPTION:
URL:https://azld8gop.com/event/mesa-unified-school-district-aka-mesa-public-schools-6/
LOCATION:Board Room of the Curriculum Services Center\, 549 N. Stapley Dr\, Mesa\, AZ\, 85203
END:VEVENT
BEGIN:VEVENT
DTSTART;TZID=UTC:20231114T183000
DTEND;TZID=UTC:20231114T200000
DTSTAMP:20260421T085528
CREATED:20230822T083511Z
LAST-MODIFIED:20230822T083511Z
UID:10000067-1699986600-1699992000@azld8gop.com
SUMMARY:MESA UNIFIED SCHOOL DISTRICT (aka MESA PUBLIC SCHOOLS)
DESCRIPTION:
URL:https://azld8gop.com/event/mesa-unified-school-district-aka-mesa-public-schools-5/
LOCATION:Board Room of the Curriculum Services Center\, 549 N. Stapley Dr\, Mesa\, AZ\, 85203
END:VEVENT
BEGIN:VEVENT
DTSTART;TZID=UTC:20231024T183000
DTEND;TZID=UTC:20231024T183000
DTSTAMP:20260421T085528
CREATED:20230822T083043Z
LAST-MODIFIED:20230822T083043Z
UID:10000066-1698172200-1698172200@azld8gop.com
SUMMARY:MESA UNIFIED SCHOOL DISTRICT (aka MESA PUBLIC SCHOOLS)
DESCRIPTION:
URL:https://azld8gop.com/event/mesa-unified-school-district-aka-mesa-public-schools-4/
LOCATION:Board Room of the Curriculum Services Center\, 549 N. Stapley Dr\, Mesa\, AZ\, 85203
END:VEVENT
BEGIN:VEVENT
DTSTART;TZID=UTC:20231003T183000
DTEND;TZID=UTC:20231003T200000
DTSTAMP:20260421T085528
CREATED:20230822T082937Z
LAST-MODIFIED:20230822T082937Z
UID:10000065-1696357800-1696363200@azld8gop.com
SUMMARY:MESA UNIFIED SCHOOL DISTRICT (aka MESA PUBLIC SCHOOLS)
DESCRIPTION:
URL:https://azld8gop.com/event/mesa-unified-school-district-aka-mesa-public-schools-3/
LOCATION:Board Room of the Curriculum Services Center\, 549 N. Stapley Dr\, Mesa\, AZ\, 85203
END:VEVENT
BEGIN:VEVENT
DTSTART;TZID=UTC:20230926T183000
DTEND;TZID=UTC:20230926T200000
DTSTAMP:20260421T085528
CREATED:20230822T082833Z
LAST-MODIFIED:20230822T082833Z
UID:10000064-1695753000-1695758400@azld8gop.com
SUMMARY:MESA UNIFIED SCHOOL DISTRICT (aka MESA PUBLIC SCHOOLS)
DESCRIPTION:
URL:https://azld8gop.com/event/mesa-unified-school-district-aka-mesa-public-schools-2/
LOCATION:Board Room of the Curriculum Services Center\, 549 N. Stapley Dr\, Mesa\, AZ\, 85203
END:VEVENT
BEGIN:VEVENT
DTSTART;TZID=UTC:20230912T183000
DTEND;TZID=UTC:20230912T183000
DTSTAMP:20260421T085528
CREATED:20230822T082713Z
LAST-MODIFIED:20230822T082713Z
UID:10000063-1694543400-1694543400@azld8gop.com
SUMMARY:MESA UNIFIED SCHOOL DISTRICT (aka MESA PUBLIC SCHOOLS)
DESCRIPTION:
URL:https://azld8gop.com/event/mesa-unified-school-district-aka-mesa-public-schools/
LOCATION:Board Room of the Curriculum Services Center\, 549 N. Stapley Dr\, Mesa\, AZ\, 85203
END:VEVENT
END:VCALENDAR