BEGIN:VCALENDAR
VERSION:2.0
PRODID:-//LD8 Republicans - ECPv6.15.14//NONSGML v1.0//EN
CALSCALE:GREGORIAN
METHOD:PUBLISH
X-WR-CALNAME:LD8 Republicans
X-ORIGINAL-URL:https://azld8gop.com
X-WR-CALDESC:Events for LD8 Republicans
REFRESH-INTERVAL;VALUE=DURATION:PT1H
X-Robots-Tag:noindex
X-PUBLISHED-TTL:PT1H
BEGIN:VTIMEZONE
TZID:UTC
BEGIN:STANDARD
TZOFFSETFROM:+0000
TZOFFSETTO:+0000
TZNAME:UTC
DTSTART:20230101T000000
END:STANDARD
END:VTIMEZONE
BEGIN:VEVENT
DTSTART;TZID=UTC:20260415T180000
DTEND;TZID=UTC:20260415T193000
DTSTAMP:20260420T082518
CREATED:20250225T025804Z
LAST-MODIFIED:20250225T025804Z
UID:10000771-1776276000-1776281400@azld8gop.com
SUMMARY:TEMPE ELEMENTARY SCHOOL DISTRICT BOARD MEETING
DESCRIPTION:https://www.tempeschools.org/discover/governing-board
URL:https://azld8gop.com/event/tempe-elementary-school-district-board-meeting-2/2026-04-15/
LOCATION:Sanchez Administration Center\, 3205 S. Rural Road\, Tempe\, AZ\, 85282
END:VEVENT
BEGIN:VEVENT
DTSTART;TZID=UTC:20260401T180000
DTEND;TZID=UTC:20260401T193000
DTSTAMP:20260420T082518
CREATED:20250225T025642Z
LAST-MODIFIED:20250225T025823Z
UID:10000732-1775066400-1775071800@azld8gop.com
SUMMARY:TEMPE ELEMENTARY SCHOOL DISTRICT BOARD MEETING
DESCRIPTION:https://www.tempeschools.org/discover/governing-board
URL:https://azld8gop.com/event/tempe-elementary-school-district-board-meeting/2026-04-01/
LOCATION:Sanchez Administration Center\, 3205 S. Rural Road\, Tempe\, AZ\, 85282
END:VEVENT
BEGIN:VEVENT
DTSTART;TZID=UTC:20260318T180000
DTEND;TZID=UTC:20260318T193000
DTSTAMP:20260420T082518
CREATED:20250225T025804Z
LAST-MODIFIED:20250225T025804Z
UID:10000770-1773856800-1773862200@azld8gop.com
SUMMARY:TEMPE ELEMENTARY SCHOOL DISTRICT BOARD MEETING
DESCRIPTION:https://www.tempeschools.org/discover/governing-board
URL:https://azld8gop.com/event/tempe-elementary-school-district-board-meeting-2/2026-03-18/
LOCATION:Sanchez Administration Center\, 3205 S. Rural Road\, Tempe\, AZ\, 85282
END:VEVENT
BEGIN:VEVENT
DTSTART;TZID=UTC:20260304T180000
DTEND;TZID=UTC:20260304T193000
DTSTAMP:20260420T082518
CREATED:20250225T025642Z
LAST-MODIFIED:20250225T025823Z
UID:10000731-1772647200-1772652600@azld8gop.com
SUMMARY:TEMPE ELEMENTARY SCHOOL DISTRICT BOARD MEETING
DESCRIPTION:https://www.tempeschools.org/discover/governing-board
URL:https://azld8gop.com/event/tempe-elementary-school-district-board-meeting/2026-03-04/
LOCATION:Sanchez Administration Center\, 3205 S. Rural Road\, Tempe\, AZ\, 85282
END:VEVENT
BEGIN:VEVENT
DTSTART;TZID=UTC:20260218T180000
DTEND;TZID=UTC:20260218T193000
DTSTAMP:20260420T082518
CREATED:20250225T025804Z
LAST-MODIFIED:20250225T025804Z
UID:10000769-1771437600-1771443000@azld8gop.com
SUMMARY:TEMPE ELEMENTARY SCHOOL DISTRICT BOARD MEETING
DESCRIPTION:https://www.tempeschools.org/discover/governing-board
URL:https://azld8gop.com/event/tempe-elementary-school-district-board-meeting-2/2026-02-18/
LOCATION:Sanchez Administration Center\, 3205 S. Rural Road\, Tempe\, AZ\, 85282
END:VEVENT
BEGIN:VEVENT
DTSTART;TZID=UTC:20260204T180000
DTEND;TZID=UTC:20260204T193000
DTSTAMP:20260420T082518
CREATED:20250225T025642Z
LAST-MODIFIED:20250225T025823Z
UID:10000730-1770228000-1770233400@azld8gop.com
SUMMARY:TEMPE ELEMENTARY SCHOOL DISTRICT BOARD MEETING
DESCRIPTION:https://www.tempeschools.org/discover/governing-board
URL:https://azld8gop.com/event/tempe-elementary-school-district-board-meeting/2026-02-04/
LOCATION:Sanchez Administration Center\, 3205 S. Rural Road\, Tempe\, AZ\, 85282
END:VEVENT
BEGIN:VEVENT
DTSTART;TZID=UTC:20260121T180000
DTEND;TZID=UTC:20260121T193000
DTSTAMP:20260420T082518
CREATED:20250225T025804Z
LAST-MODIFIED:20250225T025804Z
UID:10000768-1769018400-1769023800@azld8gop.com
SUMMARY:TEMPE ELEMENTARY SCHOOL DISTRICT BOARD MEETING
DESCRIPTION:https://www.tempeschools.org/discover/governing-board
URL:https://azld8gop.com/event/tempe-elementary-school-district-board-meeting-2/2026-01-21/
LOCATION:Sanchez Administration Center\, 3205 S. Rural Road\, Tempe\, AZ\, 85282
END:VEVENT
BEGIN:VEVENT
DTSTART;TZID=UTC:20260107T180000
DTEND;TZID=UTC:20260107T193000
DTSTAMP:20260420T082518
CREATED:20250225T025642Z
LAST-MODIFIED:20250225T025823Z
UID:10000729-1767808800-1767814200@azld8gop.com
SUMMARY:TEMPE ELEMENTARY SCHOOL DISTRICT BOARD MEETING
DESCRIPTION:https://www.tempeschools.org/discover/governing-board
URL:https://azld8gop.com/event/tempe-elementary-school-district-board-meeting/2026-01-07/
LOCATION:Sanchez Administration Center\, 3205 S. Rural Road\, Tempe\, AZ\, 85282
END:VEVENT
BEGIN:VEVENT
DTSTART;TZID=UTC:20251217T180000
DTEND;TZID=UTC:20251217T193000
DTSTAMP:20260420T082518
CREATED:20250225T025804Z
LAST-MODIFIED:20250225T025804Z
UID:10000767-1765994400-1765999800@azld8gop.com
SUMMARY:TEMPE ELEMENTARY SCHOOL DISTRICT BOARD MEETING
DESCRIPTION:https://www.tempeschools.org/discover/governing-board
URL:https://azld8gop.com/event/tempe-elementary-school-district-board-meeting-2/2025-12-17/
LOCATION:Sanchez Administration Center\, 3205 S. Rural Road\, Tempe\, AZ\, 85282
END:VEVENT
BEGIN:VEVENT
DTSTART;TZID=UTC:20251203T180000
DTEND;TZID=UTC:20251203T193000
DTSTAMP:20260420T082518
CREATED:20250225T025642Z
LAST-MODIFIED:20250225T025823Z
UID:10000728-1764784800-1764790200@azld8gop.com
SUMMARY:TEMPE ELEMENTARY SCHOOL DISTRICT BOARD MEETING
DESCRIPTION:https://www.tempeschools.org/discover/governing-board
URL:https://azld8gop.com/event/tempe-elementary-school-district-board-meeting/2025-12-03/
LOCATION:Sanchez Administration Center\, 3205 S. Rural Road\, Tempe\, AZ\, 85282
END:VEVENT
BEGIN:VEVENT
DTSTART;TZID=UTC:20251119T180000
DTEND;TZID=UTC:20251119T193000
DTSTAMP:20260420T082518
CREATED:20250225T025804Z
LAST-MODIFIED:20250225T025804Z
UID:10000766-1763575200-1763580600@azld8gop.com
SUMMARY:TEMPE ELEMENTARY SCHOOL DISTRICT BOARD MEETING
DESCRIPTION:https://www.tempeschools.org/discover/governing-board
URL:https://azld8gop.com/event/tempe-elementary-school-district-board-meeting-2/2025-11-19/
LOCATION:Sanchez Administration Center\, 3205 S. Rural Road\, Tempe\, AZ\, 85282
END:VEVENT
BEGIN:VEVENT
DTSTART;TZID=UTC:20251105T180000
DTEND;TZID=UTC:20251105T193000
DTSTAMP:20260420T082518
CREATED:20250225T025642Z
LAST-MODIFIED:20250225T025823Z
UID:10000727-1762365600-1762371000@azld8gop.com
SUMMARY:TEMPE ELEMENTARY SCHOOL DISTRICT BOARD MEETING
DESCRIPTION:https://www.tempeschools.org/discover/governing-board
URL:https://azld8gop.com/event/tempe-elementary-school-district-board-meeting/2025-11-05/
LOCATION:Sanchez Administration Center\, 3205 S. Rural Road\, Tempe\, AZ\, 85282
END:VEVENT
BEGIN:VEVENT
DTSTART;TZID=UTC:20251015T180000
DTEND;TZID=UTC:20251015T193000
DTSTAMP:20260420T082518
CREATED:20250225T025804Z
LAST-MODIFIED:20250225T025804Z
UID:10000765-1760551200-1760556600@azld8gop.com
SUMMARY:TEMPE ELEMENTARY SCHOOL DISTRICT BOARD MEETING
DESCRIPTION:https://www.tempeschools.org/discover/governing-board
URL:https://azld8gop.com/event/tempe-elementary-school-district-board-meeting-2/2025-10-15/
LOCATION:Sanchez Administration Center\, 3205 S. Rural Road\, Tempe\, AZ\, 85282
END:VEVENT
BEGIN:VEVENT
DTSTART;TZID=UTC:20251001T180000
DTEND;TZID=UTC:20251001T193000
DTSTAMP:20260420T082518
CREATED:20250225T025642Z
LAST-MODIFIED:20250225T025823Z
UID:10000726-1759341600-1759347000@azld8gop.com
SUMMARY:TEMPE ELEMENTARY SCHOOL DISTRICT BOARD MEETING
DESCRIPTION:https://www.tempeschools.org/discover/governing-board
URL:https://azld8gop.com/event/tempe-elementary-school-district-board-meeting/2025-10-01/
LOCATION:Sanchez Administration Center\, 3205 S. Rural Road\, Tempe\, AZ\, 85282
END:VEVENT
BEGIN:VEVENT
DTSTART;TZID=UTC:20250917T180000
DTEND;TZID=UTC:20250917T193000
DTSTAMP:20260420T082518
CREATED:20250225T025804Z
LAST-MODIFIED:20250225T025804Z
UID:10000764-1758132000-1758137400@azld8gop.com
SUMMARY:TEMPE ELEMENTARY SCHOOL DISTRICT BOARD MEETING
DESCRIPTION:https://www.tempeschools.org/discover/governing-board
URL:https://azld8gop.com/event/tempe-elementary-school-district-board-meeting-2/2025-09-17/
LOCATION:Sanchez Administration Center\, 3205 S. Rural Road\, Tempe\, AZ\, 85282
END:VEVENT
BEGIN:VEVENT
DTSTART;TZID=UTC:20250903T180000
DTEND;TZID=UTC:20250903T193000
DTSTAMP:20260420T082518
CREATED:20250225T025642Z
LAST-MODIFIED:20250225T025823Z
UID:10000725-1756922400-1756927800@azld8gop.com
SUMMARY:TEMPE ELEMENTARY SCHOOL DISTRICT BOARD MEETING
DESCRIPTION:https://www.tempeschools.org/discover/governing-board
URL:https://azld8gop.com/event/tempe-elementary-school-district-board-meeting/2025-09-03/
LOCATION:Sanchez Administration Center\, 3205 S. Rural Road\, Tempe\, AZ\, 85282
END:VEVENT
BEGIN:VEVENT
DTSTART;TZID=UTC:20250820T180000
DTEND;TZID=UTC:20250820T193000
DTSTAMP:20260420T082518
CREATED:20250225T025804Z
LAST-MODIFIED:20250225T025804Z
UID:10000763-1755712800-1755718200@azld8gop.com
SUMMARY:TEMPE ELEMENTARY SCHOOL DISTRICT BOARD MEETING
DESCRIPTION:https://www.tempeschools.org/discover/governing-board
URL:https://azld8gop.com/event/tempe-elementary-school-district-board-meeting-2/2025-08-20/
LOCATION:Sanchez Administration Center\, 3205 S. Rural Road\, Tempe\, AZ\, 85282
END:VEVENT
BEGIN:VEVENT
DTSTART;TZID=UTC:20250806T180000
DTEND;TZID=UTC:20250806T193000
DTSTAMP:20260420T082518
CREATED:20250225T025642Z
LAST-MODIFIED:20250225T025823Z
UID:10000724-1754503200-1754508600@azld8gop.com
SUMMARY:TEMPE ELEMENTARY SCHOOL DISTRICT BOARD MEETING
DESCRIPTION:https://www.tempeschools.org/discover/governing-board
URL:https://azld8gop.com/event/tempe-elementary-school-district-board-meeting/2025-08-06/
LOCATION:Sanchez Administration Center\, 3205 S. Rural Road\, Tempe\, AZ\, 85282
END:VEVENT
BEGIN:VEVENT
DTSTART;TZID=UTC:20250716T180000
DTEND;TZID=UTC:20250716T193000
DTSTAMP:20260420T082518
CREATED:20250225T025804Z
LAST-MODIFIED:20250225T025804Z
UID:10000762-1752688800-1752694200@azld8gop.com
SUMMARY:TEMPE ELEMENTARY SCHOOL DISTRICT BOARD MEETING
DESCRIPTION:https://www.tempeschools.org/discover/governing-board
URL:https://azld8gop.com/event/tempe-elementary-school-district-board-meeting-2/2025-07-16/
LOCATION:Sanchez Administration Center\, 3205 S. Rural Road\, Tempe\, AZ\, 85282
END:VEVENT
BEGIN:VEVENT
DTSTART;TZID=UTC:20250702T180000
DTEND;TZID=UTC:20250702T193000
DTSTAMP:20260420T082518
CREATED:20250225T025642Z
LAST-MODIFIED:20250225T025823Z
UID:10000723-1751479200-1751484600@azld8gop.com
SUMMARY:TEMPE ELEMENTARY SCHOOL DISTRICT BOARD MEETING
DESCRIPTION:https://www.tempeschools.org/discover/governing-board
URL:https://azld8gop.com/event/tempe-elementary-school-district-board-meeting/2025-07-02/
LOCATION:Sanchez Administration Center\, 3205 S. Rural Road\, Tempe\, AZ\, 85282
END:VEVENT
BEGIN:VEVENT
DTSTART;TZID=UTC:20250618T180000
DTEND;TZID=UTC:20250618T193000
DTSTAMP:20260420T082518
CREATED:20250225T025804Z
LAST-MODIFIED:20250225T025804Z
UID:10000761-1750269600-1750275000@azld8gop.com
SUMMARY:TEMPE ELEMENTARY SCHOOL DISTRICT BOARD MEETING
DESCRIPTION:https://www.tempeschools.org/discover/governing-board
URL:https://azld8gop.com/event/tempe-elementary-school-district-board-meeting-2/2025-06-18/
LOCATION:Sanchez Administration Center\, 3205 S. Rural Road\, Tempe\, AZ\, 85282
END:VEVENT
BEGIN:VEVENT
DTSTART;TZID=UTC:20250604T180000
DTEND;TZID=UTC:20250604T193000
DTSTAMP:20260420T082518
CREATED:20250225T025642Z
LAST-MODIFIED:20250225T025823Z
UID:10000722-1749060000-1749065400@azld8gop.com
SUMMARY:TEMPE ELEMENTARY SCHOOL DISTRICT BOARD MEETING
DESCRIPTION:https://www.tempeschools.org/discover/governing-board
URL:https://azld8gop.com/event/tempe-elementary-school-district-board-meeting/2025-06-04/
LOCATION:Sanchez Administration Center\, 3205 S. Rural Road\, Tempe\, AZ\, 85282
END:VEVENT
BEGIN:VEVENT
DTSTART;TZID=UTC:20250521T180000
DTEND;TZID=UTC:20250521T193000
DTSTAMP:20260420T082518
CREATED:20250225T025804Z
LAST-MODIFIED:20250225T025804Z
UID:10000760-1747850400-1747855800@azld8gop.com
SUMMARY:TEMPE ELEMENTARY SCHOOL DISTRICT BOARD MEETING
DESCRIPTION:https://www.tempeschools.org/discover/governing-board
URL:https://azld8gop.com/event/tempe-elementary-school-district-board-meeting-2/2025-05-21/
LOCATION:Sanchez Administration Center\, 3205 S. Rural Road\, Tempe\, AZ\, 85282
END:VEVENT
BEGIN:VEVENT
DTSTART;TZID=UTC:20250507T180000
DTEND;TZID=UTC:20250507T193000
DTSTAMP:20260420T082518
CREATED:20250225T025642Z
LAST-MODIFIED:20250225T025823Z
UID:10000721-1746640800-1746646200@azld8gop.com
SUMMARY:TEMPE ELEMENTARY SCHOOL DISTRICT BOARD MEETING
DESCRIPTION:https://www.tempeschools.org/discover/governing-board
URL:https://azld8gop.com/event/tempe-elementary-school-district-board-meeting/2025-05-07/
LOCATION:Sanchez Administration Center\, 3205 S. Rural Road\, Tempe\, AZ\, 85282
END:VEVENT
BEGIN:VEVENT
DTSTART;TZID=UTC:20250416T180000
DTEND;TZID=UTC:20250416T193000
DTSTAMP:20260420T082518
CREATED:20250225T025804Z
LAST-MODIFIED:20250225T025804Z
UID:10000759-1744826400-1744831800@azld8gop.com
SUMMARY:TEMPE ELEMENTARY SCHOOL DISTRICT BOARD MEETING
DESCRIPTION:https://www.tempeschools.org/discover/governing-board
URL:https://azld8gop.com/event/tempe-elementary-school-district-board-meeting-2/2025-04-16/
LOCATION:Sanchez Administration Center\, 3205 S. Rural Road\, Tempe\, AZ\, 85282
END:VEVENT
BEGIN:VEVENT
DTSTART;TZID=UTC:20250402T180000
DTEND;TZID=UTC:20250402T193000
DTSTAMP:20260420T082518
CREATED:20250225T025642Z
LAST-MODIFIED:20250225T025823Z
UID:10000720-1743616800-1743622200@azld8gop.com
SUMMARY:TEMPE ELEMENTARY SCHOOL DISTRICT BOARD MEETING
DESCRIPTION:https://www.tempeschools.org/discover/governing-board
URL:https://azld8gop.com/event/tempe-elementary-school-district-board-meeting/2025-04-02/
LOCATION:Sanchez Administration Center\, 3205 S. Rural Road\, Tempe\, AZ\, 85282
END:VEVENT
BEGIN:VEVENT
DTSTART;TZID=UTC:20250305T180000
DTEND;TZID=UTC:20250305T193000
DTSTAMP:20260420T082518
CREATED:20250225T025642Z
LAST-MODIFIED:20250225T025823Z
UID:10000719-1741197600-1741203000@azld8gop.com
SUMMARY:TEMPE ELEMENTARY SCHOOL DISTRICT BOARD MEETING
DESCRIPTION:https://www.tempeschools.org/discover/governing-board
URL:https://azld8gop.com/event/tempe-elementary-school-district-board-meeting/2025-03-05/
LOCATION:Sanchez Administration Center\, 3205 S. Rural Road\, Tempe\, AZ\, 85282
END:VEVENT
BEGIN:VEVENT
DTSTART;TZID=UTC:20240626T180000
DTEND;TZID=UTC:20240626T193000
DTSTAMP:20260420T082518
CREATED:20230822T094549Z
LAST-MODIFIED:20230822T094549Z
UID:10000108-1719424800-1719430200@azld8gop.com
SUMMARY:TEMPE ELEMENTARY SCHOOL DISTRICT
DESCRIPTION:SUMMER HOURS
URL:https://azld8gop.com/event/tempe-elementary-school-district-18/
LOCATION:Sanchez Administration Center\, 3205 S. Rural Road\, Tempe\, AZ\, 85282
END:VEVENT
BEGIN:VEVENT
DTSTART;TZID=UTC:20240612T180000
DTEND;TZID=UTC:20240612T193000
DTSTAMP:20260420T082518
CREATED:20230822T094406Z
LAST-MODIFIED:20230822T094406Z
UID:10000107-1718215200-1718220600@azld8gop.com
SUMMARY:TEMPE ELEMENTARY SCHOOL DISTRICT
DESCRIPTION:SUMMER HOURS
URL:https://azld8gop.com/event/tempe-elementary-school-district-17/
LOCATION:Sanchez Administration Center\, 3205 S. Rural Road\, Tempe\, AZ\, 85282
END:VEVENT
BEGIN:VEVENT
DTSTART;TZID=UTC:20240612T180000
DTEND;TZID=UTC:20240612T193000
DTSTAMP:20260420T082518
CREATED:20230822T094258Z
LAST-MODIFIED:20230822T094258Z
UID:10000106-1718215200-1718220600@azld8gop.com
SUMMARY:TEMPE ELEMENTARY SCHOOL DISTRICT
DESCRIPTION:SUMMER HOURS
URL:https://azld8gop.com/event/tempe-elementary-school-district-16/
LOCATION:Sanchez Administration Center\, 3205 S. Rural Road\, Tempe\, AZ\, 85282
END:VEVENT
END:VCALENDAR